BEGIN:VCALENDAR
VERSION:2.0
PRODID:-//wp-events-plugin.com//7.2.3//EN
TZID:Europe/Paris
X-WR-TIMEZONE:Europe/Paris
BEGIN:VEVENT
UID:69@museemerveilles.fr
DTSTART;TZID=Europe/Paris:20260509T084000
DTEND;TZID=Europe/Paris:20260509T103000
DTSTAMP:20260417T080425Z
URL:https://museemerveilles.fr/events/splendeurs-du-baroque-espagnol/
SUMMARY:Splendeurs du Baroque Espagnol
DESCRIPTION:Du 26 mars au 2 août 2026\, le Musée Jacquemart-André met à
  l’honneur l’art baroque hispanique dans l’exposition Splendeurs du 
 baroque\, organisée en collaboration avec la Hispanic Society of America 
 de New York. Pour la première fois en France\, une quarantaine de chefs-d
 ’œuvre de maîtres tels que Velázquez\, Greco ou Zurbarán sont prése
 ntés au public\, offrant un aperçu exceptionnel de l’un des moments le
 s plus féconds de l’histoire de l’art européen.\n\n&nbsp\;
ATTACH;FMTTYPE=image/jpeg:https://museemerveilles.fr/wp-content/uploads/20
 26/04/36.png
CATEGORIES:Visite guidée
LOCATION:Musée Jacquemart-André\, 158 Bd Haussmann\, Paris\, 75008\, Fran
 ce
GEO:48.875415;2.310462
X-APPLE-STRUCTURED-LOCATION;VALUE=URI;X-ADDRESS=158 Bd Haussmann\, Paris\, 
 75008\, France;X-APPLE-RADIUS=100;X-TITLE=Musée Jacquemart-André:geo:48.
 875415,2.310462
END:VEVENT
BEGIN:VTIMEZONE
TZID:Europe/Paris
X-LIC-LOCATION:Europe/Paris
BEGIN:DAYLIGHT
DTSTART:20260329T030000
TZOFFSETFROM:+0100
TZOFFSETTO:+0200
TZNAME:CEST
END:DAYLIGHT
END:VTIMEZONE
END:VCALENDAR